BEGIN:VCALENDAR
VERSION:2.0
METHOD:PUBLISH
X-WR-TIMEZONE:America/New_York
PRODID:-//Apple Inc.//iCal 3.0//EN
CALSCALE:GREGORIAN
X-APPLE-CALENDAR-COLOR:#222222
BEGIN:VTIMEZONE
TZID:America/New_York
X-LIC-LOCATION:America/New_York
BEGIN:DAYLIGHT
TZOFFSETFROM:-0500
TZOFFSETTO:-0400
TZNAME:EDT
DTSTART:19700308T020000
RRULE:FREQ=YEARLY;BYMONTH=3;BYDAY=2SU
END:DAYLIGHT
BEGIN:STANDARD
TZOFFSETFROM:-0400
TZOFFSETTO:-0500
TZNAME:EST
DTSTART:19701101T020000
RRULE:FREQ=YEARLY;BYMONTH=11;BYDAY=1SU
END:STANDARD
END:VTIMEZONE
BEGIN:VEVENT
SEQUENCE:711
DTSTART;TZID=America/New_York:20170928T190000
SUMMARY:Castleton College: Documerica
DESCRIPTION:From the New York Times: &ldquoDocumerica,&rdquo a multimedia concert presentation by the new-music string quartet Ethel and the director Steve Cosson, gently harks back to vintage modes of sharing images and experiences. At the core of the event are photographs from the Documerica project, in which the newly formed Environmental Protection Agency asked about 70 freelance photographers to prowl the country from 1972 to 1977, capturing their impressions of &ldquoenvironmental happenings and non-happenings.&rdquo Ticket Information: Adults $18, Alumni &amp Seniors $18, Students &amp Children $12
END:VEVENT
END:VCALENDAR