BEGIN:VCALENDAR
VERSION:2.0
METHOD:PUBLISH
X-WR-TIMEZONE:America/New_York
PRODID:-//Apple Inc.//iCal 3.0//EN
CALSCALE:GREGORIAN
X-APPLE-CALENDAR-COLOR:#222222
BEGIN:VTIMEZONE
TZID:America/New_York
X-LIC-LOCATION:America/New_York
BEGIN:DAYLIGHT
TZOFFSETFROM:-0500
TZOFFSETTO:-0400
TZNAME:EDT
DTSTART:19700308T020000
RRULE:FREQ=YEARLY;BYMONTH=3;BYDAY=2SU
END:DAYLIGHT
BEGIN:STANDARD
TZOFFSETFROM:-0400
TZOFFSETTO:-0500
TZNAME:EST
DTSTART:19701101T020000
RRULE:FREQ=YEARLY;BYMONTH=11;BYDAY=1SU
END:STANDARD
END:VTIMEZONE
BEGIN:VEVENT
SEQUENCE:711
DTSTART;TZID=America/New_York:20190329T190000
SUMMARY:Castleton College: Le Cirque Esprit
DESCRIPTION:&ldquoSparkling moments that defy classification&rdquo raves Billboard Magazine. Direct from New York City, Spirit of the Machine, the tour de force cirque extravaganza from bestselling acrobatic mavericks, le Cirque Esprit, brings its signature brand of sparkle and spectacle to this 90-minute multi-discipline phenomenon. Produced by the same award-winning creative team behind the Le Cirque Esprit brand, Spirit of the Machine, delivers an immersive entertainment experience of spectacle, sensation, and sound &ndash perfect for the entire family. Don&rsquot miss the next generation of cirque! Featuring cirque by the New York City&rsquos renown ABCirque and live music by contemporary pioneers cordis, Le Cirque Esprit presents its latest creation, Spirit of the Machine. The new show is based on the Greek mythological tale of Talos&mdash &ldquothe first machine&rdquo&mdashand was inspired by cordis&rsquo epic multi-movement suite, The Only, which features mechanical instruments such as a 1902 Victor Talking Machine, a large custom-made music box, and a pocket watch. As with all of Le Cirque Esprit&rsquos undertakings, this new show is packed with breathtaking acrobatics and aerial acts paired with classic steampunk-era circus artistry. Funded in part by the New England States Touring program of the New England Foundation for the Arts, made possible with funding from the National Endowment for the Arts Regional Touring Program and the six New England state arts agencies. Tickets: Adults $18 Alumni/seniors $15 Students $12
DTEND;TZID=America/New_York:20190329T235959
END:VEVENT
END:VCALENDAR