BEGIN:VCALENDAR
VERSION:2.0
METHOD:PUBLISH
X-WR-TIMEZONE:America/New_York
PRODID:-//Apple Inc.//iCal 3.0//EN
CALSCALE:GREGORIAN
X-APPLE-CALENDAR-COLOR:#222222
BEGIN:VTIMEZONE
TZID:America/New_York
X-LIC-LOCATION:America/New_York
BEGIN:DAYLIGHT
TZOFFSETFROM:-0500
TZOFFSETTO:-0400
TZNAME:EDT
DTSTART:19700308T020000
RRULE:FREQ=YEARLY;BYMONTH=3;BYDAY=2SU
END:DAYLIGHT
BEGIN:STANDARD
TZOFFSETFROM:-0400
TZOFFSETTO:-0500
TZNAME:EST
DTSTART:19701101T020000
RRULE:FREQ=YEARLY;BYMONTH=11;BYDAY=1SU
END:STANDARD
END:VTIMEZONE
BEGIN:VEVENT
SEQUENCE:711
DTSTART;TZID=America/New_York:20221020T123000
SUMMARY:Castleton College: &quotGather&quot Film Screening
DESCRIPTION:&ldquoGather&rdquo is an emotionally intimate expression of the growing movement amongst indigenous people in America to reclaim their spiritual, political, and cultural identities through food sovereignty while battling the trauma of centuries of genocide. The film follows Nephi Craig, a chief from the White Mountain Apache Nation who is opening an indigenous cafe as a nutritional recovery clinic Elsi Dubray, a young scientist from the Cheyenne River Sioux Nation who is conducting landmark studies on bison and the Ancestral Guard, a group of environmental activists from the Yurok Nation working to try and save the Klamath river. This event is free and open to the public.&nbspIf you are a Soundings student, you must complete the reservation form.
DTEND;TZID=America/New_York:20221020T235959
END:VEVENT
END:VCALENDAR