BEGIN:VCALENDAR
VERSION:2.0
METHOD:PUBLISH
X-WR-TIMEZONE:America/New_York
PRODID:-//Apple Inc.//iCal 3.0//EN
CALSCALE:GREGORIAN
X-APPLE-CALENDAR-COLOR:#222222
BEGIN:VTIMEZONE
TZID:America/New_York
X-LIC-LOCATION:America/New_York
BEGIN:DAYLIGHT
TZOFFSETFROM:-0500
TZOFFSETTO:-0400
TZNAME:EDT
DTSTART:19700308T020000
RRULE:FREQ=YEARLY;BYMONTH=3;BYDAY=2SU
END:DAYLIGHT
BEGIN:STANDARD
TZOFFSETFROM:-0400
TZOFFSETTO:-0500
TZNAME:EST
DTSTART:19701101T020000
RRULE:FREQ=YEARLY;BYMONTH=11;BYDAY=1SU
END:STANDARD
END:VTIMEZONE
BEGIN:VEVENT
SEQUENCE:711
DTSTART;TZID=America/New_York:20161022T190000
SUMMARY:Castleton College: Salam Neighbor: Film screening and discussion with one of the film’s directors
DESCRIPTION:Salam Neighbor is an award-winning film and campaign to connect the world to refugees. Directors Chris and Zach were the first filmmakers allowed to be registered and given a tent inside of a refugee camp in order to immerse themselves and the viewers into the life of a Syrian refugee. This important and timely event will include a screening of the film as well as a presentation and talk-back with one of the directors, providing a more profound exploration of the refugee crisis. Film synopsis: Seven miles from war, 85,000 Syrians struggle to restart their lives inside Jordan&rsquos Za&rsquoatari refugee camp. For the first time, two filmmakers fully embed themselves in the camp, providing an intimate look at the world&rsquos most dire humanitarian crisis. From meeting Um Ali, a woman struggling to overcome personal loss and cultural barriers, to the street smart, 10-year-old Raouf, whose trauma hides just beneath his ever present smile, witness inspiring stories of individuals rallying, against all odds, to rebuild their lives and those of their neighbors. This event is free and open to the public.
DTEND;TZID=America/New_York:20161022T235959
END:VEVENT
END:VCALENDAR