BEGIN:VCALENDAR
VERSION:2.0
METHOD:PUBLISH
X-WR-TIMEZONE:America/New_York
PRODID:-//Apple Inc.//iCal 3.0//EN
CALSCALE:GREGORIAN
X-APPLE-CALENDAR-COLOR:#222222
BEGIN:VTIMEZONE
TZID:America/New_York
X-LIC-LOCATION:America/New_York
BEGIN:DAYLIGHT
TZOFFSETFROM:-0500
TZOFFSETTO:-0400
TZNAME:EDT
DTSTART:19700308T020000
RRULE:FREQ=YEARLY;BYMONTH=3;BYDAY=2SU
END:DAYLIGHT
BEGIN:STANDARD
TZOFFSETFROM:-0400
TZOFFSETTO:-0500
TZNAME:EST
DTSTART:19701101T020000
RRULE:FREQ=YEARLY;BYMONTH=11;BYDAY=1SU
END:STANDARD
END:VTIMEZONE
BEGIN:VEVENT
SEQUENCE:711
DTSTART;TZID=America/New_York:20190331T160000
SUMMARY:Castleton College: University Chorale and Champlain Philharmonic Orchestra
DESCRIPTION:The University Chorale, in collaboration with the Champlain Philharmonic Orchestra, will perform Antonin Dvorak's Te Deum, and Beethoven's Choral Fantasia. This will be the first full orchestra and choral collaboration.&nbsp Tickets: $15/adults, $12 for seniors, $5 for students Purchase tickets here
END:VEVENT
END:VCALENDAR